BEGIN:VCALENDAR
VERSION:2.0
PRODID:-//CERN//INDICO//EN
BEGIN:VEVENT
SUMMARY:Schulung: Weltraum-Radio
DTSTART:20260612T110000Z
DTEND:20260613T133000Z
DTSTAMP:20260421T125300Z
UID:indico-event-16@indico.dzastro.de
CONTACT:philipp.lindenau@dzastro.de
DESCRIPTION:Speakers: Philipp Lindenau (Deutsches Zentrum für Astrophysik
 )\, Martin Schwinzerl (Deutsches Zentrum für Astrophysik)\n\nAktuell sind
  alle verfügbaren Plätze vergeben. Wir prüfen\, ob eine Erhöhung der K
 apazität möglich ist. Melden Sie sich gern unverbindlich auf der Warteli
 ste an. Wenn Plätze verfügbar werden\, kontaktieren wir Personen auf der
  Warteliste via Mail.\n \nDiese Veranstaltung richtet sich an Lehrkräfte
  und andere Personen\, die im Bereich astronomischer Bildung aktiv sind.\n
 Im Gegensatz zur optischen Astronomie bietet die Radioastronomie die Mögl
 ichkeit\, astronomische Beobachtungen tageszeitunabhängig und ebenfalls w
 eitestgehend wetterunabhängig durchzuführen. Daher eignet sich dieser Be
 reich der experimentellen Astrophysik besonders für zeitkritische Einsatz
 szenarien wie z. B. den Schulunterricht.\nIn dieser Fortbildung erhalten d
 ie Teilnehmenden Einblick in die theoretischen Grundlagen der Radioastrono
 mie und den Selbstbau eines einfachen Radioteleskops. In Workshopphasen wi
 rd mit einfachen Mitteln die Antenne des Teleskops gebaut und diese anschl
 ießend mit der elektronischen Hardware verbunden. Anschließend werden ex
 emplarische Messungen des atomaren Wasserstoffs in der Milchstraße durchg
 eführt. \nDie Fortbildung befähigt die Teilnehmenden\, selbst einfache 
 und kostengünstige Radioteleskope zu bauen und zur Vermittlung der experi
 mentellen Radioastronomie einzusetzen. \nFortbildungsziele\nDie Teilnehme
 nden:\n\nerwerben grundlegende Kenntnisse in der theoretischen und experim
 entellen Radioastronomie.\nreflektieren Anknüpfungspunkte an typische Leh
 rplaninhalte durch Analogiebildung zu optischen und akustischen Phänomene
 n.\nbauen die Antenne eines Radioteleskops mit Alltagsmaterialien. \nfüg
 en die elektronische Hardware des Radioteleskops zusammen und testen diese
 .\nführen eine vollständige Kalibrationsroutine für das selbstgebaute R
 adioteleskop durch.\nnutzen das Teleskop für die Messung der Signale von 
 atomarem Wasserstoff (21-cm Linie).\ndiskutieren weiterführende Einsatzm
 öglichkeiten des Radioteleskops wie z. B. Sonnenbeobachtungen.\n\n \nKos
 ten\nDanke der Kooperation mit Netzwerk Teilchenwelt und der Förderung du
 rch die Dr. Hans Riegel-Stiftung fallen für die Teilnahme keine Kosten an
 . Die Teilnehmenden erhalten während der Veranstaltung kostenlose Verpfle
 gung.\nLehrkräfte erhalten weiterhin eine kostenfreie Übernachtungsmögl
 ichkeit und die Erstattung von nachgewiesenen Reisekosten bis zu einer Hö
 he von 100 Euro. Für andere Teilnehmende steht für Übernachtung und Fah
 rtkosten bei Bedarf ebenfalls ein limitiertes Budget für diese Kosten zur
  Verfügung.\nAktuell befindet sich noch in Prüfung\, in welchem Umfang d
 ie kostenfreie Mitnahme der Teleskopkomponenten nach der Veranstaltung rea
 lisiert werden kann. Die Kosten für eine eigenständige Anschaffung der A
 ntenne und der Hardwarekomponenten belaufen sich auf ca. 150 Euro.\nTeilna
 hmebescheinigungen\nDas DZA stellt Teilnahmebescheinigungen aus.\nAnmeldes
 chluss: 30.04.2026\nAnhand der Evaluationsergebnisse eines im April stattf
 indenden Pilotdurchlaufs ausgewählter Fortbildungsinhalte können geringf
 ügige Änderungen  der Veranstaltungsagenda nötig werden. Start- und En
 dzeit der Veranstaltunge bleiben in jedem Fall unverändert.\n\nhttps://in
 dico.dzastro.de/event/16/
IMAGE;VALUE=URI:https://indico.dzastro.de/event/16/logo-2414234103.png
LOCATION:Atelierhaus (Kühlhaus Görlitz)
URL:https://indico.dzastro.de/event/16/
END:VEVENT
END:VCALENDAR
