BEGIN:VCALENDAR
VERSION:2.0
PRODID:-//CERN//INDICO//EN
BEGIN:VEVENT
SUMMARY:Test-Conference
DTSTART:20300401T060000Z
DTEND:20300401T180000Z
DTSTAMP:20260421T130600Z
UID:indico-event-18@indico.dzastro.de
CONTACT:events@dzastro.de
DESCRIPTION:https://indico.dzastro.de/event/18/
URL:https://indico.dzastro.de/event/18/
END:VEVENT
END:VCALENDAR
